BEGIN:VCALENDAR
VERSION:2.0
PRODID:-//Strong Tower Radio - ECPv6.15.20//NONSGML v1.0//EN
CALSCALE:GREGORIAN
METHOD:PUBLISH
X-ORIGINAL-URL:https://strongtowerradio.org
X-WR-CALDESC:Events for Strong Tower Radio
REFRESH-INTERVAL;VALUE=DURATION:PT1H
X-Robots-Tag:noindex
X-PUBLISHED-TTL:PT1H
BEGIN:VTIMEZONE
TZID:UTC
BEGIN:STANDARD
TZOFFSETFROM:+0000
TZOFFSETTO:+0000
TZNAME:UTC
DTSTART:20250101T000000
END:STANDARD
END:VTIMEZONE
BEGIN:VEVENT
DTSTART;TZID=UTC:20260608T170000
DTEND;TZID=UTC:20260608T190000
DTSTAMP:20260421T191912
CREATED:20260225T030707Z
LAST-MODIFIED:20260225T030707Z
UID:15674-1780938000-1780945200@strongtowerradio.org
SUMMARY:Free Legal Clinic in Cadillac
DESCRIPTION:Free is good\, and free attorney consult is even better. A free legal clinic is at the Cadillac Friend of the Court Office April 13 and June 8 from 5-7 p.m. For more information\, call 231-779-9494 extension 2008.
URL:https://strongtowerradio.org/event/free-legal-clinic-in-cadillac-2/
LOCATION:Cadillac Friend of the Court Office\, 401 North Lake Street\, Cadillac\, MI\, 49601\, United States
END:VEVENT
BEGIN:VEVENT
DTSTART;VALUE=DATE:20260612
DTEND;VALUE=DATE:20260621
DTSTAMP:20260421T191912
CREATED:20260421T172944Z
LAST-MODIFIED:20260421T173107Z
UID:16084-1781222400-1781999999@strongtowerradio.org
SUMMARY:Michigan Conference Summer 2026 Camp Meeting
DESCRIPTION:It is time for the Michigan Conference Summer 2026 Camp Meeting!\nStrong Tower Radio will air the Michigan Conference Camp Meeting’s evening and Sabbath sermons nightly at 9 p.m. and Sabbaths at 11 a.m. June 12-20 on-air\, streaming online\, & on our mobile apps! \n \n  \nSpeakers\n\n\n\n\n\nJim Micheff\, Jr\n\n\n\nServes as the president of the Michigan Conference. \n\n\nRead Bio \n\n\n\n\n\n\n\n\nStephen Bohr\n\n\n\nis the President of Secrets Unsealed headquartered in Fresno\, CA. His love for the Lord is the driving force behind his commitment to spreading the cutting-edge gospel message for these last days with clarity and power. \n\n\n\n\n\n\n\n\nPaul H. Douglas\n\n\n\nis Treasurer and CFO of the Seventh-day Adventist Church world headquarters. He brings decades of global leadership experience to share practical insights on faithful stewardship\, accountability\, and resourcing mission effectively. \n\n\n\n\n\n\n\n\nRyan Hayes\n\n\n\nProfessor of Chemistry at Andrews University\, combines real-world research and dynamic demonstrations to make science engaging while pointing audiences to God’s design in creation. \n\n\n\n\n\n\n\n\nSteven Conway\n\n\n\npastors the Troy Seventh-day Adventist church. He is an international speaker who shares practical\, Christ-centered insights on spiritual growth and healthy relationships\, drawing from decades of ministry and global outreach. \n\n\n\n \n  \nView full Camp Meeting informational booklet (including a larger map with specific class info\, locations\, etc.) HERE \n  \nTo watch the rest of the seminars and programs\, you can livestream directly from the Michigan Conference website! \nFor more Christ-centered events\, visit our Community Calendar!
URL:https://strongtowerradio.org/event/michigan-conference-summer-2026-camp-meeting/
LOCATION:Great Lakes Adventist Academy\, 7477 M575\, Cedar Lake\, MI\, 48812\, United States
ATTACH;FMTTYPE=image/webp:https://strongtowerradio.org/wp-content/uploads/2026/04/624160758_1303478005143908_4797598774324691923_n.webp
END:VEVENT
END:VCALENDAR