BEGIN:VCALENDAR
VERSION:2.0
PRODID:-//Strong Tower Radio - ECPv6.15.20//NONSGML v1.0//EN
CALSCALE:GREGORIAN
METHOD:PUBLISH
X-WR-CALNAME:Strong Tower Radio
X-ORIGINAL-URL:https://strongtowerradio.org
X-WR-CALDESC:Events for Strong Tower Radio
REFRESH-INTERVAL;VALUE=DURATION:PT1H
X-Robots-Tag:noindex
X-PUBLISHED-TTL:PT1H
BEGIN:VTIMEZONE
TZID:UTC
BEGIN:STANDARD
TZOFFSETFROM:+0000
TZOFFSETTO:+0000
TZNAME:UTC
DTSTART:20250101T000000
END:STANDARD
END:VTIMEZONE
BEGIN:VEVENT
DTSTART;TZID=UTC:20260507T163000
DTEND;TZID=UTC:20260509T180000
DTSTAMP:20260425T223803
CREATED:20260422T043831Z
LAST-MODIFIED:20260422T043833Z
UID:16090-1778171400-1778349600@strongtowerradio.org
SUMMARY:Dr. David Derose Lectures in Cheboygan
DESCRIPTION:Dr. David Derose\, MD\,MPH-a board certified specialist in internal and preventative medicine\, practicing clinician and co-author of the bestselling book 30 Days to Natural Blood Pressure control will present Reversing High Blood Pressure Naturally\, Longevity Plus: Living Sharper\, Leaner and Better\, and The Brain Health Revolution to  Optimizing mental performance\, preventing Dementia & improving Mental Health. There is no charge for these lecture series. \nMay 7th-9th at the Cheboygan Seventh-day Adventist Church located at 459 Lafayette St Cheboygan\, MI from 4:30 PM – 6:00 PM and the Petoskey Holiday Inn located at 1751 US 131 from 7:30-9:00 PM.
URL:https://strongtowerradio.org/event/david-derose-lecture-cheboygan/
LOCATION:Cheboygan Seventh-day Adventist Church\, 459 Lafayette Ave\, Cheboygan\, MI\, 49721\, United States
END:VEVENT
BEGIN:VEVENT
DTSTART;TZID=UTC:20260507T193000
DTEND;TZID=UTC:20260509T210000
DTSTAMP:20260425T223803
CREATED:20260422T044135Z
LAST-MODIFIED:20260422T044135Z
UID:16094-1778182200-1778360400@strongtowerradio.org
SUMMARY:Dr. David Derose Lectures in Petoskey
DESCRIPTION:Dr. David Derose\, MD\,MPH-a board certified specialist in internal and preventative medicine\, practicing clinician and co-author of the bestselling book 30 Days to Natural Blood Pressure control will present Reversing High Blood Pressure Naturally\, Longevity Plus: Living Sharper\, Leaner and Better\, and The Brain Health Revolution to  Optimizing mental performance\, preventing Dementia & improving Mental Health. There is no charge for these lecture series. \nMay 7th-9th at the Cheboygan Seventh-day Adventist Church located at 459 Lafayette St Cheboygan\, MI from 4:30 PM – 6:00 PM and the Petoskey Holiday Inn located at 1751 US 131 from 7:30-9:00 PM.
URL:https://strongtowerradio.org/event/dr-david-derose-lectures-in-petoskey/
LOCATION:Petoskey Holiday Inn\, 1751 US-131\, Petoskey\, Michigan\, 49770\, United States
END:VEVENT
END:VCALENDAR