BEGIN:VCALENDAR
VERSION:2.0
PRODID:-//Strong Tower Radio - ECPv6.15.20//NONSGML v1.0//EN
CALSCALE:GREGORIAN
METHOD:PUBLISH
X-WR-CALNAME:Strong Tower Radio
X-ORIGINAL-URL:https://strongtowerradio.org
X-WR-CALDESC:Events for Strong Tower Radio
REFRESH-INTERVAL;VALUE=DURATION:PT1H
X-Robots-Tag:noindex
X-PUBLISHED-TTL:PT1H
BEGIN:VTIMEZONE
TZID:UTC
BEGIN:STANDARD
TZOFFSETFROM:+0000
TZOFFSETTO:+0000
TZNAME:UTC
DTSTART:20250101T000000
END:STANDARD
END:VTIMEZONE
BEGIN:VEVENT
DTSTART;TZID=UTC:20260425T190000
DTEND;TZID=UTC:20260425T203000
DTSTAMP:20260425T192652
CREATED:20260326T013549Z
LAST-MODIFIED:20260326T013549Z
UID:15837-1777143600-1777149000@strongtowerradio.org
SUMMARY:GLAA Aerokhana's "The Passion of Christ" in Cadillac
DESCRIPTION:The Great Lakes Adventist Academy Aerokhana’s gymnastic team will present “The Passion of Christ” play re-enacting Christ’s crucifixion & resurrection on Saturday\, April 25\, at 7 p.m. at the Cadillac Seventh-day Adventist Church. This inspiring event is free\, but donations are appreciated. \n 
URL:https://strongtowerradio.org/event/glaa-aerokhanas-the-passion-of-christ-in-cadillac/
LOCATION:Cadillac Seventh-Day Adventist Church\, 801 Division St.\, Cadillac\, MI\, 49601\, United States
ATTACH;FMTTYPE=image/jpeg:https://strongtowerradio.org/wp-content/uploads/2026/03/650852377_1566335915491969_6633434074287404944_n.jpg
END:VEVENT
END:VCALENDAR