BEGIN:VCALENDAR
VERSION:2.0
PRODID:-//Strong Tower Radio - ECPv6.15.20//NONSGML v1.0//EN
CALSCALE:GREGORIAN
METHOD:PUBLISH
X-ORIGINAL-URL:https://strongtowerradio.org
X-WR-CALDESC:Events for Strong Tower Radio
REFRESH-INTERVAL;VALUE=DURATION:PT1H
X-Robots-Tag:noindex
X-PUBLISHED-TTL:PT1H
BEGIN:VTIMEZONE
TZID:UTC
BEGIN:STANDARD
TZOFFSETFROM:+0000
TZOFFSETTO:+0000
TZNAME:UTC
DTSTART:20250101T000000
END:STANDARD
END:VTIMEZONE
BEGIN:VEVENT
DTSTART;TZID=UTC:20260423T190000
DTEND;TZID=UTC:20260424T203000
DTSTAMP:20260425T205723
CREATED:20260326T014054Z
LAST-MODIFIED:20260326T014054Z
UID:15846-1776970800-1777062600@strongtowerradio.org
SUMMARY:GLAA Aerokhana's "The Passion of Christ" in Grayling
DESCRIPTION:Do you enjoy watching a gymnastics programs? \nGreat Lakes Adventist Academy Aerokhana’s gymnastic team is performing Thursday\, April 23 at 7:00 p.m. at the Grayling Public High School Gym. \nThen they will present “The Passion of Christ” play re-enacting Christ’s crucifixion & resurrection on Friday\, April 24\, at 7 p.m. at the Grayling Public High School Performance Arts Auditorium. \nBoth events are free\, but donations are appreciated. \n 
URL:https://strongtowerradio.org/event/glaa-aerokhanas-the-passion-of-christ-in-grayling/
LOCATION:Grayling Public High School\, 1135 N Old 27\, Grayling\, MI\, 49738\, United States
ATTACH;FMTTYPE=image/jpeg:https://strongtowerradio.org/wp-content/uploads/2026/03/650852377_1566335915491969_6633434074287404944_n.jpg
END:VEVENT
END:VCALENDAR