BEGIN:VCALENDAR
VERSION:2.0
PRODID:-//Strong Tower Radio - ECPv6.15.20//NONSGML v1.0//EN
CALSCALE:GREGORIAN
METHOD:PUBLISH
X-WR-CALNAME:Strong Tower Radio
X-ORIGINAL-URL:https://strongtowerradio.org
X-WR-CALDESC:Events for Strong Tower Radio
REFRESH-INTERVAL;VALUE=DURATION:PT1H
X-Robots-Tag:noindex
X-PUBLISHED-TTL:PT1H
BEGIN:VTIMEZONE
TZID:UTC
BEGIN:STANDARD
TZOFFSETFROM:+0000
TZOFFSETTO:+0000
TZNAME:UTC
DTSTART:20250101T000000
END:STANDARD
END:VTIMEZONE
BEGIN:VEVENT
DTSTART;TZID=UTC:20260419T150000
DTEND;TZID=UTC:20260419T170000
DTSTAMP:20260421T082616
CREATED:20260409T230658Z
LAST-MODIFIED:20260409T230658Z
UID:16023-1776610800-1776618000@strongtowerradio.org
SUMMARY:Sourdough Class in L'anse
DESCRIPTION:“Would you like to learn how to make sourdough bread?  Robin Carlisle\, an experienced baker\, will demonstrate how to do it.  A free light meal is included plus sourdough bread tasting.  Don’t miss the Sourdough Bread Making hands-on demonstration April 19th from 3-5 pm at the L’anse Seventh-day Adventist Church located at 1069 N Main St\, L’Anse\, MI 49946. Reservations are not required\, but encouraged to right-size this fun-filled event. RSVP at 906-524-2215.
URL:https://strongtowerradio.org/event/sourdough-class-in-lanse/
LOCATION:L’anse Seventh-day Adventist Church\, 1069 North Main Street\, L'anse\, MI\, 49946\, United States
END:VEVENT
END:VCALENDAR