BEGIN:VCALENDAR
VERSION:2.0
PRODID:-//Strong Tower Radio - ECPv6.15.20//NONSGML v1.0//EN
CALSCALE:GREGORIAN
METHOD:PUBLISH
X-WR-CALNAME:Strong Tower Radio
X-ORIGINAL-URL:https://strongtowerradio.org
X-WR-CALDESC:Events for Strong Tower Radio
REFRESH-INTERVAL;VALUE=DURATION:PT1H
X-Robots-Tag:noindex
X-PUBLISHED-TTL:PT1H
BEGIN:VTIMEZONE
TZID:UTC
BEGIN:STANDARD
TZOFFSETFROM:+0000
TZOFFSETTO:+0000
TZNAME:UTC
DTSTART:20250101T000000
END:STANDARD
END:VTIMEZONE
BEGIN:VEVENT
DTSTART;TZID=UTC:20260112T190000
DTEND;TZID=UTC:20260309T203000
DTSTAMP:20260426T002946
CREATED:20251217T170149Z
LAST-MODIFIED:20251218T194046Z
UID:15273-1768244400-1773088200@strongtowerradio.org
SUMMARY:"Financial Peace" in Stevensville
DESCRIPTION:Tired of living paycheck to paycheck? Does payday feel like a quick stop before the money disappears again? You work too hard to be this broke! \nYou need a plan that works. That plan is Financial Peace University. In just nine weeks\, you’ll learn a simple\, proven way to dump debt\, save for emergencies\, and build wealth. Nearly 10 million people have changed their lives using these commonsense\, biblical money principles\, and you can too. \nTake back control of your money and change your family tree. The southwest Michigan location is the Stevensville Seventh-day Adventist Church at 6657 Stevensville-Baroda Rd. Call 269.422.2391 again\, 269.422.2391 to get started.  Scholarships are available.
URL:https://strongtowerradio.org/event/financial-peace-in-stevensville/
LOCATION:Stevensville Seventh-day Adventist Church\, 6657 Stevensville-Baroda Road\, Stevensville\, MI\, 49127\, United States
ATTACH;FMTTYPE=image/png:https://strongtowerradio.org/wp-content/uploads/2025/12/Untitled-design-1.png
END:VEVENT
BEGIN:VEVENT
DTSTART;TZID=UTC:20260214T110000
DTEND;TZID=UTC:20260214T123000
DTSTAMP:20260426T002946
CREATED:20260204T185628Z
LAST-MODIFIED:20260204T190008Z
UID:15551-1771066800-1771072200@strongtowerradio.org
SUMMARY:Scott Michael Bennett Concert/Testimony in Wilson
DESCRIPTION:Scott Michael Bennett\, vocalist on Strong Tower Radio\, concert and testimony will be February 14 at 11 am at the Wilson Seventh-day Adventist Church and 6:00 pm at the Escanaba Seventh-day Adventist Church.
URL:https://strongtowerradio.org/event/scott-michael-bennett-concert-in-wilson/
LOCATION:Wilson Seventh-Day Adventist Church\, N14220 County Road 551\, Wilson\, MI\, 49896\, United States
END:VEVENT
BEGIN:VEVENT
DTSTART;TZID=UTC:20260214T180000
DTEND;TZID=UTC:20260214T193000
DTSTAMP:20260426T002946
CREATED:20260204T185936Z
LAST-MODIFIED:20260204T185936Z
UID:15553-1771092000-1771097400@strongtowerradio.org
SUMMARY:Scott Michael Bennett Concert/Testimony in Escanaba
DESCRIPTION:Scott Michael Bennett\, vocalist on Strong Tower Radio\, concert and testimony will be February 14 at 11 am at the Wilson Seventh-day Adventist Church and 6:00 pm at the Escanaba Seventh-day Adventist Church.
URL:https://strongtowerradio.org/event/scott-michael-bennett-concert-testimony-in-escanaba/
LOCATION:Escanaba Seventh-day Adventist Church\, 210 South Lincoln Road\, Escanaba\, MI\, 49829\, United States
END:VEVENT
END:VCALENDAR