BEGIN:VCALENDAR
VERSION:2.0
PRODID:-//Strong Tower Radio - ECPv6.15.20//NONSGML v1.0//EN
CALSCALE:GREGORIAN
METHOD:PUBLISH
X-WR-CALNAME:Strong Tower Radio
X-ORIGINAL-URL:https://strongtowerradio.org
X-WR-CALDESC:Events for Strong Tower Radio
REFRESH-INTERVAL;VALUE=DURATION:PT1H
X-Robots-Tag:noindex
X-PUBLISHED-TTL:PT1H
BEGIN:VTIMEZONE
TZID:UTC
BEGIN:STANDARD
TZOFFSETFROM:+0000
TZOFFSETTO:+0000
TZNAME:UTC
DTSTART:20250101T000000
END:STANDARD
END:VTIMEZONE
BEGIN:VEVENT
DTSTART;TZID=UTC:20260104T170000
DTEND;TZID=UTC:20260104T190000
DTSTAMP:20260426T021156
CREATED:20251226T205625Z
LAST-MODIFIED:20251226T205625Z
UID:15311-1767546000-1767553200@strongtowerradio.org
SUMMARY:"Healthy Eating Habits" in Lansing
DESCRIPTION:Join the 12 Healthy Eating Habits for 2026 for an evening filled with delicious plant-based food\, live cooking demos\, door prizes\, free recipes\, and practical information on how to succeed with our health goals in the New Year. There will be a medical professional on hand for questions after the class. The FREE 12 Health Eating Habits for 2026 take place in the Fellowship Hall of the Lansing Seventh-day Adventist Church on Sunday\, January 4 at 5:00 PM . Registration is encouraged. To register\, call 517-321-1963 or email us at LPBcooking@gmail.com
URL:https://strongtowerradio.org/event/healthy-eating-habits-in-lansing/
LOCATION:Lansing Seventh-Day Adventist Church\, 5400 West St. Joseph\, Lansing\, MI\, 48917\, United States
END:VEVENT
END:VCALENDAR