BEGIN:VCALENDAR
VERSION:2.0
PRODID:-//Strong Tower Radio - ECPv6.15.20//NONSGML v1.0//EN
CALSCALE:GREGORIAN
METHOD:PUBLISH
X-ORIGINAL-URL:https://strongtowerradio.org
X-WR-CALDESC:Events for Strong Tower Radio
REFRESH-INTERVAL;VALUE=DURATION:PT1H
X-Robots-Tag:noindex
X-PUBLISHED-TTL:PT1H
BEGIN:VTIMEZONE
TZID:UTC
BEGIN:STANDARD
TZOFFSETFROM:+0000
TZOFFSETTO:+0000
TZNAME:UTC
DTSTART:20240101T000000
END:STANDARD
END:VTIMEZONE
BEGIN:VEVENT
DTSTART;VALUE=DATE:20251205
DTEND;VALUE=DATE:20251225
DTSTAMP:20260426T035506
CREATED:20251202T191008Z
LAST-MODIFIED:20251202T191008Z
UID:15203-1764892800-1766620799@strongtowerradio.org
SUMMARY:"Blue Christmas"
DESCRIPTION:You’re invited to Blue Christmas—a special holiday service that holds space for your sorrow and leaves room for the light. \nFor anyone navigating loss\, the joy of the holidays can feel disconnected from your personal experience. Whether it’s the death of a loved one\, divorce\, or distance between you and family\, God cares about your grief. Blue Christmas services will be at the 242 Community Church campuses as follows: \nSaginaw – December 5 @ 7:00 – 8:30 pm \nMonroe – December 7 @ 6:30 – 8:00 pm \nLansing – December 8 @ 7:00 – 8:30 pm \nBrighton – December 17 @ 7:00 – 8:00 pm \nTaylor – December 17 @ 7:00 – 8:30 pm \nAnn Arbor – Sunday @ December 24 6:00 – 8:30 pm \nFor more information on each location\, visit 242Community.com/Blue-Christmas
URL:https://strongtowerradio.org/event/blue-christmas/
LOCATION:MI
END:VEVENT
BEGIN:VEVENT
DTSTART;TZID=UTC:20251214T130000
DTEND;TZID=UTC:20251214T160000
DTSTAMP:20260426T035506
CREATED:20251202T185838Z
LAST-MODIFIED:20251202T185910Z
UID:15195-1765717200-1765728000@strongtowerradio.org
SUMMARY:TC Botanic Garden Free Family Fun Day
DESCRIPTION:Bring the whole family for the monthly Free Family Fun Day at The Traverse City Botanic Garden! On Sunday\, December 14 beginning at 1 p.m. you will explore the fun making pinecone owls —using natural materials to make cute ornaments and decorations to last for years to come. No registration required\, and all materials provided! The Botanic Garden at Historic Barns Park is at 1490 Red Dr\, Traverse City.
URL:https://strongtowerradio.org/event/tc-botanic-garden-free-family-fun-day/
LOCATION:Traverse City Botanical Gardens\, 1490 Red Drive\, Traverse City\, MI\, 49684\, United States
END:VEVENT
END:VCALENDAR